BEGIN:VCALENDAR
VERSION:2.0
PRODID:-//wp-events-plugin.com//7.2.3.1//EN
TZID:Europe/Berlin
X-WR-TIMEZONE:Europe/Berlin
BEGIN:VEVENT
UID:1-15289@na-dev.de
DTSTART;TZID=Europe/Berlin;VALUE=DATE:20260220
DTEND;TZID=Europe/Berlin;VALUE=DATE:20260223
DTSTAMP:20251111T194719Z
URL:https://na-dev.de/events/28614/
SUMMARY:Thailand Convention Chiang Mai 2026
DESCRIPTION:\n\nWeitere Infos
ATTACH;FMTTYPE=image/jpeg:https://na-dev.de/wp-content/uploads/2025/11/NA-
 Thailand_2026_crop.jpg
CATEGORIES:Convention/Party,Top-Event
LOCATION:Hotel Mercure\, 183 Changphuak Rd\, Chiang Mai\, Provinz Chiang Ma
 i\, 50030\, Mueang Chiang Mai\, Thailand
GEO:18.803739;98.986446
X-APPLE-STRUCTURED-LOCATION;VALUE=URI;X-ADDRESS=183 Changphuak Rd\, Chiang 
 Mai\, Provinz Chiang Mai\, 50030\, Mueang Chiang Mai\, Thailand;X-APPLE-RA
 DIUS=100;X-TITLE=Hotel Mercure:geo:18.803739,98.986446
END:VEVENT
BEGIN:VTIMEZONE
TZID:Europe/Berlin
X-LIC-LOCATION:Europe/Berlin
BEGIN:STANDARD
DTSTART:20251026T020000
TZOFFSETFROM:+0200
TZOFFSETTO:+0100
TZNAME:CET
END:STANDARD
END:VTIMEZONE
END:VCALENDAR