BEGIN:VCALENDAR
VERSION:2.0
PRODID:-//wp-events-plugin.com//7.2.3.1//EN
TZID:Europe/Berlin
X-WR-TIMEZONE:Europe/Berlin
BEGIN:VEVENT
UID:1-15286@na-dev.de
DTSTART;TZID=Europe/Berlin;VALUE=DATE:20260123
DTEND;TZID=Europe/Berlin;VALUE=DATE:20260126
DTSTAMP:20251111T185822Z
URL:https://na-dev.de/events/adriatic-winter-convention-in-ljubljana-2026/
SUMMARY:Adriatic Winter Convention in Ljubljana 2026
DESCRIPTION:
ATTACH;FMTTYPE=image/jpeg:https://na-dev.de/wp-content/uploads/2025/11/Slo
 wenien_2026_crop.jpg
CATEGORIES:Convention/Party,Top-Event
LOCATION:M Hotel\, Derčeva ulica 4\, Laibach\, 1000\, Slowenien
GEO:46.068555;14.489002
X-APPLE-STRUCTURED-LOCATION;VALUE=URI;X-ADDRESS=Derčeva ulica 4\, Laibach\
 , 1000\, Slowenien;X-APPLE-RADIUS=100;X-TITLE=M Hotel:geo:46.068555,14.489
 002
END:VEVENT
BEGIN:VTIMEZONE
TZID:Europe/Berlin
X-LIC-LOCATION:Europe/Berlin
BEGIN:STANDARD
DTSTART:20251026T020000
TZOFFSETFROM:+0200
TZOFFSETTO:+0100
TZNAME:CET
END:STANDARD
END:VTIMEZONE
END:VCALENDAR