BEGIN:VCALENDAR
VERSION:2.0
PRODID:-//wp-events-plugin.com//7.2.3.1//EN
TZID:Europe/Berlin
X-WR-TIMEZONE:Europe/Berlin
BEGIN:VEVENT
UID:20-14873@na-dev.de
DTSTART;TZID=Europe/Berlin:20251027T200000
DTEND;TZID=Europe/Berlin:20251027T213000
DTSTAMP:20251011T221729Z
URL:https://na-dev.de/west/events/ask-west-treffen/
SUMMARY:2025 - ASK West Treffen
DESCRIPTION:Wir treffen uns am 27.Sept. 2025 von 20:00 - 21:30 Uhr auf Zoom
 \, ihr seid herzlich willkommen\, euch einzubringen.\n\n 	Protokolle der l
 etzten Treffen findet ihr hier: https://narcotics-anonymous.de/west/downlo
 ads/\n 	Dies ist ein Service-Meeting und es gelten die 12 Traditionen und 
 12 Konzepte für NA-Service.\n\n27. Sept. 2025 Uhrzeit: 20:00 - 21:30 Uhr\
 n\nThema: ASK West\nAn Zoom-Meeting teilnehmen https://us06web.zoom.us/j/8
 2628308626?pwd=NkJBdkZlTTl2dnFJMHlPYk02ektvdz09\n\n&nbsp\;\n\nBeitreten 
 – So geht's\nhttps://us02web.zoom.us/meetings/86580619708/invitations?si
 gnature=qQQlHAHxaE6NoQqmsWEUz_3K_UEsHNCBfSlr3R4GymQ
ATTACH;FMTTYPE=image/jpeg:https://na-dev.de/wp-content/uploads/sites/20/20
 25/10/Thumb-Service-West-ASK-Copy-5.png
CATEGORIES:Service,Top-Gebiet-Event
LOCATION:https://us06web.zoom.us/j/82628308626?pwd=NkJBdkZlTTl2dnFJMHlPYk02
 ektvdz09
END:VEVENT
BEGIN:VTIMEZONE
TZID:Europe/Berlin
X-LIC-LOCATION:Europe/Berlin
BEGIN:STANDARD
DTSTART:20251026T020000
TZOFFSETFROM:+0200
TZOFFSETTO:+0100
TZNAME:CET
END:STANDARD
END:VTIMEZONE
END:VCALENDAR