BEGIN:VCALENDAR
VERSION:2.0
PRODID:-//wp-events-plugin.com//7.2.3.1//EN
TZID:Europe/Berlin
X-WR-TIMEZONE:Europe/Berlin
BEGIN:VEVENT
UID:1-7579@na-dev.de
DTSTART;TZID=Europe/Berlin:20210129T160000
DTEND;TZID=Europe/Berlin:20210129T170000
DTSTAMP:20210124T144714Z
URL:https://na-dev.de/events/ik-k-und-e-komitee-seiten/
SUMMARY:IK - K und E Komitee-Seiten
DESCRIPTION:Fragen und Antworten\n\nRalf K und E\nSilvia IK\n\n____________
 ______
CATEGORIES:Service
LOCATION:Video-Veranstaltung\, RSK\, Zoom-Raum\, Deutschland
X-APPLE-STRUCTURED-LOCATION;VALUE=URI;X-ADDRESS=RSK\, Zoom-Raum\, Deutschla
 nd;X-APPLE-RADIUS=100;X-TITLE=Video-Veranstaltung:geo:0,0
END:VEVENT
BEGIN:VTIMEZONE
TZID:Europe/Berlin
X-LIC-LOCATION:Europe/Berlin
BEGIN:STANDARD
DTSTART:20201025T020000
TZOFFSETFROM:+0200
TZOFFSETTO:+0100
TZNAME:CET
END:STANDARD
END:VTIMEZONE
END:VCALENDAR