BEGIN:VCALENDAR
VERSION:2.0
PRODID:-//wp-events-plugin.com//7.2.3.1//EN
TZID:Europe/Berlin
X-WR-TIMEZONE:Europe/Berlin
BEGIN:VEVENT
UID:1-14274@na-dev.de
DTSTART;TZID=Europe/Berlin:20251007T193000
DTEND;TZID=Europe/Berlin:20251007T210000
DTSTAMP:20241126T184717Z
URL:https://na-dev.de/events/litkom-3-2025-10-07/
SUMMARY:Litkom
DESCRIPTION:
CATEGORIES:Service
LOCATION:Video-Veranstaltung\, RSK\, Zoom-Raum\, Deutschland
X-APPLE-STRUCTURED-LOCATION;VALUE=URI;X-ADDRESS=RSK\, Zoom-Raum\, Deutschla
 nd;X-APPLE-RADIUS=100;X-TITLE=Video-Veranstaltung:geo:0,0
END:VEVENT
BEGIN:VTIMEZONE
TZID:Europe/Berlin
X-LIC-LOCATION:Europe/Berlin
BEGIN:DAYLIGHT
DTSTART:20250330T030000
TZOFFSETFROM:+0100
TZOFFSETTO:+0200
TZNAME:CEST
END:DAYLIGHT
END:VTIMEZONE
END:VCALENDAR