BEGIN:VCALENDAR
VERSION:2.0
PRODID:-//wp-events-plugin.com//7.2.3.1//EN
TZID:Europe/Berlin
X-WR-TIMEZONE:Europe/Berlin
BEGIN:VEVENT
UID:1-14782@na-dev.de
DTSTART;TZID=Europe/Berlin:20251109T200000
DTEND;TZID=Europe/Berlin:20251109T213000
DTSTAMP:20251105T200643Z
URL:https://na-dev.de/events/oea-komitee-region-2025-11-09/
SUMMARY:ÖA Komitee Region
DESCRIPTION:Arbeitsmeeting des Komitees für Öffentlichkeitsarbeit der deu
 tschsprachigen Region\n\nWir werden dieses Mal die im letzten Meeting bego
 nnene Gruppeninventur fortsetzen und hoffentlich abschließen: Was läuft 
 gut\, was läuft nicht so gut und was können oder wollen wir ändern? Wir
  freuen uns über eine rege Teilnahme.\n\nAgenda 09.11.2025:\n\n 	Gruppeni
 nventur\n 	Sonstiges\n
CATEGORIES:Service
LOCATION:Video-Veranstaltung\, RSK\, Zoom-Raum\, Deutschland
X-APPLE-STRUCTURED-LOCATION;VALUE=URI;X-ADDRESS=RSK\, Zoom-Raum\, Deutschla
 nd;X-APPLE-RADIUS=100;X-TITLE=Video-Veranstaltung:geo:0,0
END:VEVENT
BEGIN:VTIMEZONE
TZID:Europe/Berlin
X-LIC-LOCATION:Europe/Berlin
BEGIN:STANDARD
DTSTART:20251026T020000
TZOFFSETFROM:+0200
TZOFFSETTO:+0100
TZNAME:CET
END:STANDARD
END:VTIMEZONE
END:VCALENDAR