BEGIN:VCALENDAR
VERSION:2.0
PRODID:-//wp-events-plugin.com//7.2.3.1//EN
TZID:Europe/Berlin
X-WR-TIMEZONE:Europe/Berlin
BEGIN:VEVENT
UID:1-14785@na-dev.de
DTSTART;TZID=Europe/Berlin:20260208T210000
DTEND;TZID=Europe/Berlin:20260208T223000
DTSTAMP:20250804T190649Z
URL:https://na-dev.de/events/oea-komitee-region-2026-02-08/
SUMMARY:ÖA Komitee Region
DESCRIPTION:Arbeitsmeeting des Komitees für Öffentlichkeitsarbeit der deu
 tschsprachigen Region\n\nAgenda folgt zeitnah
CATEGORIES:Service
LOCATION:Video-Veranstaltung\, RSK\, Zoom-Raum\, Deutschland
X-APPLE-STRUCTURED-LOCATION;VALUE=URI;X-ADDRESS=RSK\, Zoom-Raum\, Deutschla
 nd;X-APPLE-RADIUS=100;X-TITLE=Video-Veranstaltung:geo:0,0
END:VEVENT
BEGIN:VTIMEZONE
TZID:Europe/Berlin
X-LIC-LOCATION:Europe/Berlin
BEGIN:STANDARD
DTSTART:20251026T020000
TZOFFSETFROM:+0200
TZOFFSETTO:+0100
TZNAME:CET
END:STANDARD
END:VTIMEZONE
END:VCALENDAR