BEGIN:VCALENDAR
VERSION:2.0
PRODID:-//wp-events-plugin.com//7.2.3.1//EN
TZID:Europe/Berlin
X-WR-TIMEZONE:Europe/Berlin
BEGIN:VEVENT
UID:1-14490@na-dev.de
DTSTART;TZID=Europe/Berlin:20250825T200000
DTEND;TZID=Europe/Berlin:20250825T220000
DTSTAMP:20250821T175249Z
URL:https://na-dev.de/events/online-redaktion-team-meeting-12-2025-08-28/
SUMMARY:Online Redaktion Team-Meeting
DESCRIPTION:Heute ausnahmsweise Montag (Sonst Donnerstag)\n\n﻿https://zoo
 m.us/j/8933771264?pwd=eHkrYzNtdnFmMzA3bkRaQmFGY1pCUT09\nMeeting-ID: 893377
 1264\nPW: 847695\n\nEinwahlnummer: \n+49 30 5679 5800 Deutschland\n+49 69
  3807 9883 Deutschland+49 695 050 2596 Deutschland+49 69 7104 9922 Deutsch
 land
CATEGORIES:Service
LOCATION:https://zoom.us/j/8933771264?pwd=eHkrYzNtdnFmMzA3bkRaQmFGY1pCUT09
END:VEVENT
BEGIN:VTIMEZONE
TZID:Europe/Berlin
X-LIC-LOCATION:Europe/Berlin
BEGIN:DAYLIGHT
DTSTART:20250330T030000
TZOFFSETFROM:+0100
TZOFFSETTO:+0200
TZNAME:CEST
END:DAYLIGHT
END:VTIMEZONE
END:VCALENDAR