BEGIN:VCALENDAR
VERSION:2.0
PRODID:-//wp-events-plugin.com//7.2.3.1//EN
TZID:Europe/Berlin
X-WR-TIMEZONE:Europe/Berlin
BEGIN:VEVENT
UID:1-15322@na-dev.de
DTSTART;TZID=Europe/Berlin:20260103T000000
DTEND;TZID=Europe/Berlin:20260104T000000
DTSTAMP:20260103T151354Z
URL:https://na-dev.de/events/workshop-tester/
SUMMARY:Workshop Tester
DESCRIPTION:Workshop
CATEGORIES:Workshop
END:VEVENT
BEGIN:VTIMEZONE
TZID:Europe/Berlin
X-LIC-LOCATION:Europe/Berlin
BEGIN:STANDARD
DTSTART:20251026T020000
TZOFFSETFROM:+0200
TZOFFSETTO:+0100
TZNAME:CET
END:STANDARD
END:VTIMEZONE
END:VCALENDAR